BEGIN:VCALENDAR
VERSION:2.0
PRODID:-//ChamberMaster//Event Calendar 2.0//EN
METHOD:PUBLISH
X-PUBLISHED-TTL:P3D
REFRESH-INTERVAL:P3D
CALSCALE:GREGORIAN
BEGIN:VEVENT
DTSTART:20260505T000000Z
DTEND:20260505T020000Z
X-MICROSOFT-CDO-ALLDAYEVENT:FALSE
SUMMARY:Fox Den's Read & Raise for Rocky Branch Elementary
DESCRIPTION:One night only\, special hours\, join us in celebrating and supporting Rocky Branch Elementary.\n\nFrom 7-9 pm\, Monday May 4th\, Fox Den will donate 20% of all sales to support Rocky Branch's literary programming and continuation of author events.
X-ALT-DESC;FMTTYPE=text/html:<span style="color:rgb(8\, 8\, 9)\; font-family:segoe ui historic\,segoe ui\,helvetica\,arial\,sans-serif\; font-size:15px">One night only\, special hours\, join us in celebrating and supporting Rocky Branch Elementary.</span><br />\n<span style="color:rgb(8\, 8\, 9)\; font-family:segoe ui historic\,segoe ui\,helvetica\,arial\,sans-serif\; font-size:15px">From 7-9 pm\, Monday May 4th\, Fox Den will donate 20% of all sales to support Rocky Branch&#39\;s literary programming and continuation of author events.</span>
LOCATION:Fox Den Books (117 S Main St.\, River Falls\, WI 54022)
UID:e.87.24361
SEQUENCE:3
DTSTAMP:20260421T213838Z
URL:https://tourism.rfchamber.com/events/details/fox-den-s-read-raise-for-rocky-branch-elementary-24361
END:VEVENT

END:VCALENDAR
