BEGIN:VCALENDAR
VERSION:2.0
PRODID:-//ChamberMaster//Event Calendar 2.0//EN
METHOD:PUBLISH
X-PUBLISHED-TTL:P3D
REFRESH-INTERVAL:P3D
CALSCALE:GREGORIAN
BEGIN:VEVENT
DTSTART:20260513T000000Z
DTEND:20260513T020000Z
X-MICROSOFT-CDO-ALLDAYEVENT:FALSE
SUMMARY:Fox Den's Read & Raise for River Falls Public Montessori
DESCRIPTION:One night only\, special hours\, join us in celebrating and supporting River Falls Public Montessori.\n\nFrom 7-9 pm\, Tuesday May 12th\, Fox Den will donate 20% of all sales to support RFPM's literary programming and continuation of author events.
X-ALT-DESC;FMTTYPE=text/html:One night only\, special hours\, join us in celebrating and supporting River Falls Public Montessori.<br />\nFrom 7-9 pm\, Tuesday May 12th\, Fox Den will donate 20% of all sales to support RFPM&#39\;s literary programming and continuation of author events.
LOCATION:Fox Den Books (117 S Main St.\, River Falls\, WI 54022)
UID:e.87.24364
SEQUENCE:3
DTSTAMP:20260421T213610Z
URL:https://tourism.rfchamber.com/events/details/fox-den-s-read-raise-for-river-falls-public-montessori-24364
END:VEVENT

END:VCALENDAR
