BEGIN:VCALENDAR
VERSION:2.0
PRODID:-//ChamberMaster//Event Calendar 2.0//EN
METHOD:PUBLISH
X-PUBLISHED-TTL:P3D
REFRESH-INTERVAL:P3D
CALSCALE:GREGORIAN
BEGIN:VEVENT
DTSTART:20260512T000000Z
DTEND:20260512T020000Z
X-MICROSOFT-CDO-ALLDAYEVENT:FALSE
SUMMARY:Fox Den's Read & Raise for Greenwood Elementary
DESCRIPTION:One night only\, special hours\, join us in celebrating and supporting Greenwood Elementary.\n\nFrom 7-9 pm\, Monday May 11th\, Fox Den will donate 20% of all sales to support Greenwood's literary programming and continuation of author events.
X-ALT-DESC;FMTTYPE=text/html:One night only\, special hours\, join us in celebrating and supporting Greenwood Elementary.<br />\nFrom 7-9 pm\, Monday May 11th\, Fox Den will donate 20% of all sales to support Greenwood&#39\;s literary programming and continuation of author events.
LOCATION:Fox Den Books (117 S Main St.\, River Falls\, WI 54022)
UID:e.87.24363
SEQUENCE:3
DTSTAMP:20260421T231256Z
URL:https://tourism.rfchamber.com/events/details/fox-den-s-read-raise-for-greenwood-elementary-24363
END:VEVENT

END:VCALENDAR
