BEGIN:VCALENDAR
VERSION:2.0
PRODID:-//ChamberMaster//Event Calendar 2.0//EN
METHOD:PUBLISH
X-PUBLISHED-TTL:P3D
REFRESH-INTERVAL:P3D
CALSCALE:GREGORIAN
BEGIN:VEVENT
DTSTART:20241026T190000Z
DTEND:20241026T210000Z
X-MICROSOFT-CDO-ALLDAYEVENT:FALSE
SUMMARY:Faith Lutheran Church & Preschool Fall Festival
DESCRIPTION:Kid friendly\, family approved event. Join us for an afternoon of fun with a bounce house\, pumpkin carving\, face painting\, bobbing for apples and more! This is a free indoor/outdoor event that goes on rain or shine.
X-ALT-DESC;FMTTYPE=text/html:Kid friendly\, family approved event. Join us for an afternoon of fun with a bounce house\, pumpkin carving\, face painting\, bobbing for apples and more! This is a free indoor/outdoor event that goes on rain or shine.
LOCATION:Faith Lutheran Church & Preschool 545 Apollo Rd River Falls\, WI
UID:e.87.22056
SEQUENCE:3
DTSTAMP:20260424T034755Z
URL:https://tourism.rfchamber.com/events/details/faith-lutheran-church-preschool-fall-festival-22056
END:VEVENT

END:VCALENDAR
