BEGIN:VCALENDAR
VERSION:2.0
PRODID:-//ChamberMaster//Event Calendar 2.0//EN
METHOD:PUBLISH
X-PUBLISHED-TTL:P3D
REFRESH-INTERVAL:P3D
CALSCALE:GREGORIAN
BEGIN:VEVENT
DTSTART:20241209T230000Z
DTEND:20241210T020000Z
X-MICROSOFT-CDO-ALLDAYEVENT:FALSE
SUMMARY:Dinner with the Grinch @ Junior's
DESCRIPTION:Dinner and Photos with the Grinch (and possibly a special appearance by Cindy Lou Who). A perfect night for family fun in one of our outdoor igloos\, or simply in our dining room. Reservations are strongly encouraged. https://www.juniorsrf.com/reservations
X-ALT-DESC;FMTTYPE=text/html:Dinner and Photos with the Grinch (and possibly a special appearance by Cindy Lou Who). A perfect night for family fun in one of our outdoor igloos\, or simply in our dining room. Reservations are strongly encouraged. https://www.juniorsrf.com/reservations
LOCATION:Junior's Restaurant 414 S Main St River Falls WI
UID:e.87.22114
SEQUENCE:3
DTSTAMP:20260424T050426Z
URL:https://tourism.rfchamber.com/events/details/dinner-with-the-grinch-junior-s-22114
END:VEVENT

END:VCALENDAR
