BEGIN:VCALENDAR
VERSION:2.0
PRODID:-//ChamberMaster//Event Calendar 2.0//EN
METHOD:PUBLISH
X-PUBLISHED-TTL:P3D
REFRESH-INTERVAL:P3D
CALSCALE:GREGORIAN
BEGIN:VEVENT
DTSTART:20241206T140000Z
DTEND:20241206T150000Z
X-MICROSOFT-CDO-ALLDAYEVENT:FALSE
SUMMARY:December Chamber Coffee
DESCRIPTION:Join us for Chamber Coffee on Friday\, December 6 at 8:00am hosted in the City Hall Training Room! Join the fun of connecting with other businesses and the Chamber\, while sharing what's going on with your business.\n\n\n\nThank you to our sponsors\, River Falls Housing Authority and Our Neighbors' Place!
X-ALT-DESC;FMTTYPE=text/html:<span style="font-size:14px\;"><span style="background:white\;"><span style="color:#232333\;"><span style="font-family:arial\,sans-serif\;">Join us for&nbsp\;Chamber Coffee on&nbsp\;Friday\, December 6 at 8:00am hosted in the City Hall Training Room! Join the fun of connecting with other businesses and the Chamber\, while sharing what&#39\;s going on with your business.</span></span></span><br style="font-variant-ligatures:normal\;font-variant-caps:normal\;orphans:2\;widows:2\;-webkit-text-stroke-width:0px\;text-decoration-thickness:initial\;text-decoration-style:initial\;text-align:-webkit-center\;box-sizing:border-box\;word-spacing:0px\;" />\n<br style="font-variant-ligatures:normal\;font-variant-caps:normal\;orphans:2\;widows:2\;-webkit-text-stroke-width:0px\;text-decoration-thickness:initial\;text-decoration-style:initial\;text-align:-webkit-center\;box-sizing:border-box\;word-spacing:0px\;" />\n<span style="background:white\;"><span style="color:#232333\;"><span style="font-family:arial\,sans-serif\;"><span style="font-variant-ligatures:normal\;font-variant-caps:normal\;orphans:2\;text-align:-webkit-center\;widows:2\;-webkit-text-stroke-width:0px\;text-decoration-thickness:initial\;text-decoration-style:initial\;word-spacing:0px\;"><span style="font-variant-ligatures:normal\;font-variant-caps:normal\;orphans:2\;text-align:start\;widows:2\;-webkit-text-stroke-width:0px\;text-decoration-thickness:initial\;text-decoration-style:initial\;word-spacing:0px\;">Thank you to our sponsors\,&nbsp\;</span></span></span></span></span><strong>River Falls Housing Authority&nbsp\;and Our Neighbors&#39\; Place</strong><span style="background:white\;"><span style="color:#232333\;"><span style="font-family:arial\,sans-serif\;"><span style="font-variant-ligatures:normal\;font-variant-caps:normal\;orphans:2\;text-align:-webkit-center\;widows:2\;-webkit-text-stroke-width:0px\;text-decoration-thickness:initial\;text-decoration-style:initial\;word-spacing:0px\;"><span style="font-variant-ligatures:normal\;font-variant-caps:normal\;orphans:2\;text-align:start\;widows:2\;-webkit-text-stroke-width:0px\;text-decoration-thickness:initial\;text-decoration-style:initial\;word-spacing:0px\;"><strong>!</strong>&nbsp\;</span></span></span></span></span></span>
LOCATION:City Hall Training Room 215 West Maple Street River Falls\, WI 54022
UID:e.87.21136
SEQUENCE:3
DTSTAMP:20260424T050326Z
URL:https://tourism.rfchamber.com/events/details/december-chamber-coffee-21136
END:VEVENT

END:VCALENDAR
