BEGIN:VCALENDAR
VERSION:2.0
PRODID:-//ChamberMaster//Event Calendar 2.0//EN
METHOD:PUBLISH
X-PUBLISHED-TTL:P3D
REFRESH-INTERVAL:P3D
CALSCALE:GREGORIAN
BEGIN:VEVENT
DTSTART:20251204T003000Z
DTEND:20251204T020000Z
X-MICROSOFT-CDO-ALLDAYEVENT:FALSE
SUMMARY:Cornhole Tournament Blind Draw Double Elimination
DESCRIPTION:Blind Draw Double Elimination
X-ALT-DESC;FMTTYPE=text/html:Blind Draw Double Elimination&nbsp\;
LOCATION:109 West Cedar Street\, River Falls\, WI\, United States\, Wisconsin 54022
UID:e.87.24133
SEQUENCE:3
DTSTAMP:20260421T135056Z
URL:https://tourism.rfchamber.com/events/details/cornhole-tournament-blind-draw-double-elimination-24133
END:VEVENT

END:VCALENDAR
