BEGIN:VCALENDAR
VERSION:2.0
PRODID:-//ChamberMaster//Event Calendar 2.0//EN
METHOD:PUBLISH
X-PUBLISHED-TTL:P3D
REFRESH-INTERVAL:P3D
CALSCALE:GREGORIAN
BEGIN:VEVENT
DTSTART:20240906T130000Z
DTEND:20240906T140000Z
X-MICROSOFT-CDO-ALLDAYEVENT:FALSE
SUMMARY:Chamber Coffee
DESCRIPTION:Join us for Chamber Coffee on Friday\, September 6 at 8:00am hosted at The Sycamore! Join the fun of connecting with other businesses and the Chamber\, while sharing what's going on with your business.\n\n\n\nThank you to our sponsors\, The Sycamore of River Falls and HOPE Lutheran! Find out what's new and stay updated on Chamber news\, local events\, and more. Stay until the end and be entered into a special prize drawing!
X-ALT-DESC;FMTTYPE=text/html:<span style="background:white\;"><span style="color:#232333\;"><span style="font-family:arial\,sans-serif\;"><span style="font-size:10.5pt\;">Join us for&nbsp\;Chamber Coffee on&nbsp\;Friday\, September 6 at 8:00am hosted at The Sycamore! Join the fun of connecting with other businesses and the Chamber\, while sharing what&#39\;s going on with your business.</span></span></span></span><br style="font-variant-ligatures:normal\;font-variant-caps:normal\;orphans:2\;widows:2\;-webkit-text-stroke-width:0px\;text-decoration-thickness:initial\;text-decoration-style:initial\;text-align:-webkit-center\;box-sizing:border-box\;word-spacing:0px\;" />\n<br style="font-variant-ligatures:normal\;font-variant-caps:normal\;orphans:2\;widows:2\;-webkit-text-stroke-width:0px\;text-decoration-thickness:initial\;text-decoration-style:initial\;text-align:-webkit-center\;box-sizing:border-box\;word-spacing:0px\;" />\n<span style="background:white\;"><span style="color:#232333\;"><span style="font-family:arial\,sans-serif\;"><span style="font-size:10.5pt\;"><span style="font-variant-ligatures:normal\;font-variant-caps:normal\;orphans:2\;text-align:-webkit-center\;widows:2\;-webkit-text-stroke-width:0px\;text-decoration-thickness:initial\;text-decoration-style:initial\;word-spacing:0px\;"><span style="font-variant-ligatures:normal\;font-variant-caps:normal\;orphans:2\;text-align:start\;widows:2\;-webkit-text-stroke-width:0px\;text-decoration-thickness:initial\;text-decoration-style:initial\;word-spacing:0px\;">Thank you to our sponsors\, <b>The Sycamore of River Falls and HOPE Lutheran!</b>&nbsp\;Find out what&#39\;s new and stay updated on Chamber news\, local events\, and more. Stay until the end and be entered into a special prize drawing!</span></span></span></span></span></span>
LOCATION:The Sycamore of River Falls 745 Sycamore St. River Falls\, WI 54022
UID:e.87.21133
SEQUENCE:3
DTSTAMP:20260424T021316Z
URL:https://tourism.rfchamber.com/events/details/chamber-coffee-21133
END:VEVENT

END:VCALENDAR
