BEGIN:VCALENDAR
VERSION:2.0
PRODID:-//ChamberMaster//Event Calendar 2.0//EN
METHOD:PUBLISH
X-PUBLISHED-TTL:P3D
REFRESH-INTERVAL:P3D
CALSCALE:GREGORIAN
BEGIN:VEVENT
DTSTART:20241212T133000Z
DTEND:20241212T150000Z
X-MICROSOFT-CDO-ALLDAYEVENT:FALSE
SUMMARY:Cancelled: Rise and Learn: Protect Your Small Business Against Scams\, Fraud\, and Data Breaches
DESCRIPTION:Rise and Learn: Protect Your Small Business Against Scams\, Fraud\, and Data Breaches\n\n\n\n \n\nRunning a business takes dedication and hard work. Don't let scams\, fraud\, or data breaches jeopardize your reputation\, bottom line\, or the trust of your customers and employees. Protecting your business is essential\, and the Wisconsin Bureau of Consumer Protection offers vital guidance to help. They will discuss the warning signs of scams\, prevention strategies\, and steps to take if your business becomes a victim. Additionally\, they'll cover the causes of business identity theft and data breaches\, why small businesses are frequent targets\, and best practices for minimizing risks. Learn how to identify vulnerabilities and establish strong data privacy and security policies to safeguard your company and valued customers.\n\nJeff Kersten\, the Agency Liaison for the Bureau of Consumer Protection within the Wisconsin Department of Agriculture\, Trade and Consumer Protection is joining us for a special edition of Rise and Learn. With over 12 years of experience as a police officer and a background as a Consumer Protection Investigator\, Jeff travels statewide to educate the public\, businesses\, and law enforcement on privacy protection\, data security\, identity theft\, and other areas of consumer protection.\n\nEvent Details:\n\n\n	Date: Tuesday\, December 12th\n	Time: 8:00 AM   9:00 AM\n	Location: The St. Croix Valley Business Innovation Center\n	Cost: Free for members\, $20 for non-members\n\n\nTopics Covered:\n\n\n	\n	Scams and Fraud Prevention: Learn about common scams targeting small businesses\, how to spot warning signs\, practical prevention strategies\, and steps to take if you or your business falls victim to fraud. Helpful fact sheets from the Bureau of Consumer Protection will also be available.\n	\n	\n	Data Security and Breach Awareness: Understand the leading causes of business identity theft and data breaches. Discover why small and medium-sized businesses are frequent targets and gain insights into identifying and mitigating data security risks. Jeff will review real-world examples of recent breaches and share best practices for establishing strong data privacy and security policies.\n	\n\n\nAs Wisconsin's lead agency for consumer protection\, the Bureau of Consumer Protection provides information\, mediates complaints\, investigates cases\, and enforces actions to combat fraudulent and deceptive practices that harm consumers and honest businesses. Don't miss this opportunity to stay informed\, secure your business\, and protect your customers.\n\n \n\nThank you to the River Falls Chamber Government Relations Committee for spearheading this conversation!
X-ALT-DESC;FMTTYPE=text/html:<p style="text-align: center\;"><span style="font-size:22px\;"><u><span style="font-family:tahoma\;"><span style="color:#000000\;"><strong>Rise and Learn: Protect Y</strong></span></span></u></span><u style="font-size: 22px\; text-align: center\;"><span style="font-family: tahoma\;"><span style="color: rgb(0\, 0\, 0)\;"><strong>our Small Business Against Scams\, Fraud\, and Data Breaches</strong></span></span></u></p>\n\n<p style="text-align: center\;"><br />\n&nbsp\;</p>\n\n<p><span style="font-family: tahoma\; font-size: 16px\; color: rgb(0\, 0\, 0)\;">Running a business ta</span><span style="color: rgb(0\, 0\, 0)\; font-size: 16px\;"><span style="font-family:tahoma\;">kes dedication and hard work. Don&rsquo\;t let scams\, fraud\, or data breaches jeopardize your reputation\, bottom line\, or the trust of your customers and employees. Protecting your business is essential\, and the Wisconsin Bureau of Consumer Protection offers vital guidance to help.&nbsp\;</span></span><span style="color: rgb(0\, 0\, 0)\; font-size: 16px\;"><span style="font-family:tahoma\;">They will discuss the warning signs of scams\, prevention strategies\, and steps to take if your business becomes a victim. Additionally\, they&rsquo\;ll cover the causes of business identity theft and data breaches\, why small businesses are frequent targets\, and best practices for minimizing risks. Learn how to identify vulnerabilities and establish strong data privacy and security policies to safeguard your company and valued customers.</span></span></p>\n\n<p><span style="color:#000000\;"><span style="font-size:16px\;"><span style="font-family:tahoma\;"><strong>Jeff Kersten</strong>\, the Agency Liaison for the Bureau of Consumer Protection within the Wisconsin Department of Agriculture\, Trade and Consumer Protection is joining us for a special edition of Rise and Learn. With over 12 years of experience as a police officer and a background as a Consumer Protection Investigator\, Jeff travels statewide to educate the public\, businesses\, and law enforcement on privacy protection\, data security\, identity theft\, and other areas of consumer protection.</span></span></span></p>\n\n<h3><span style="color:#000000\;"><span style="font-size:20px\;"><span style="font-family:tahoma\;">Event Details:</span></span></span></h3>\n\n<ul>\n	<li><span style="color:#000000\;"><span style="font-size:16px\;"><span style="font-family:tahoma\;"><strong>Date</strong>: Tuesday\, December 12th</span></span></span></li>\n	<li><span style="color:#000000\;"><span style="font-size:16px\;"><span style="font-family:tahoma\;"><strong>Time</strong>: 8:00 AM &ndash\; 9:00 AM</span></span></span></li>\n	<li><span style="color:#000000\;"><span style="font-size:16px\;"><span style="font-family:tahoma\;"><strong>Location</strong>: The St. Croix Valley Business Innovation Center</span></span></span></li>\n	<li><span style="color:#000000\;"><span style="font-size:16px\;"><span style="font-family:tahoma\;"><strong>Cost</strong>: Free for members\, $20 for non-members</span></span></span></li>\n</ul>\n\n<h3><span style="font-size:20px\;"><span style="font-family:tahoma\;"><span style="color:#000000\;">Topics Covered:</span></span></span></h3>\n\n<ul>\n	<li>\n	<p><span style="font-size:16px\;"><span style="font-family:tahoma\;"><span style="color:#000000\;"><strong>Scams and Fraud Prevention</strong>: Learn about common scams targeting small businesses\, how to spot warning signs\, practical prevention strategies\, and steps to take if you or your business falls victim to fraud. Helpful fact sheets from the Bureau of Consumer Protection will also be available.</span></span></span></p>\n	</li>\n	<li>\n	<p><span style="font-size:16px\;"><span style="font-family:tahoma\;"><span style="color:#000000\;"><strong>Data Security and Breach Awareness</strong>: Understand the leading causes of business identity theft and data breaches. Discover why small and medium-sized businesses are frequent targets and gain insights into identifying and mitigating data security risks. Jeff will review real-world examples of recent breaches and share best practices for establishing strong data privacy and security policies.</span></span></span></p>\n	</li>\n</ul>\n\n<p><span style="font-size:16px\;"><span style="font-family:tahoma\;"><span style="color:#000000\;">As Wisconsin&rsquo\;s lead agency for consumer protection\, the Bureau of Consumer Protection provides information\, mediates complaints\, investigates cases\, and enforces actions to combat fraudulent and deceptive practices that harm consumers and honest businesses.&nbsp\;</span></span></span><span style="font-size:16px\;"><span style="font-family:tahoma\;"><span style="color:#000000\;">Don&rsquo\;t miss this opportunity to stay informed\, secure your business\, and protect your customers.</span></span></span><br />\n&nbsp\;</p>\n\n<p style="text-align: center\;"><span style="font-size:16px\;"><span style="font-family:tahoma\;"><span style="color:#000000\;"><em>Thank you to the River Falls Chamber Government Relations Committee for spearheading this conversation!&nbsp\;</em></span></span></span></p>\n
LOCATION:The St. Croix Valley Business Innovation Center
UID:e.87.22112
SEQUENCE:3
DTSTAMP:20260424T050718Z
URL:https://tourism.rfchamber.com/events/details/cancelled-rise-and-learn-protect-your-small-business-against-scams-fraud-and-data-breaches-22112
END:VEVENT

END:VCALENDAR
