BEGIN:VCALENDAR
VERSION:2.0
PRODID:-//ChamberMaster//Event Calendar 2.0//EN
METHOD:PUBLISH
X-PUBLISHED-TTL:P3D
REFRESH-INTERVAL:P3D
CALSCALE:GREGORIAN
BEGIN:VEVENT
DTSTART:20241117T010000Z
DTEND:20241117T020000Z
X-MICROSOFT-CDO-ALLDAYEVENT:FALSE
SUMMARY:Blend Your Own Custom Whiskey Class
DESCRIPTION:Blend Your Own Custom Rye Whiskey led by a Tattersall expert. \n\nJoin us in River Falls to sample four different single barrels of Tattersall Rye Whiskey and then create your custom blend   based on your unique tastes. \n\n\n\nYour one-hour blending experience Includes: \n\n  Whiskey production tour.\n\n  Sample four single barrels of Tattersall Rye Whiskey in our intimate barrel room\, with notecards to record your tasting notes and preferences. \n\n  Guidance and tips to help decide how you want to create your blend. \n\n  Opportunity to label and seal your bottle. \n\n  Dessert whiskey shot to celebrate your selection.\n\n\n\nCost: \n\n$75 per person\, including your own bottle\n\nPlus\, add on additional guests for $25 to enjoy the experience with you. \n\n\n\nAdditional bottles can be purchased during the experience for $50 each.  \n\n\n\nGreat as gift for the holidays/ birthdays or just a treat for yourself!
X-ALT-DESC;FMTTYPE=text/html:Blend Your Own Custom Rye Whiskey led by a Tattersall expert.&nbsp\;<br />\nJoin us in River Falls to sample four different single barrels of Tattersall Rye Whiskey and then create your custom blend &mdash\; based on your unique tastes.&nbsp\;<br />\n<br />\nYour one-hour blending experience Includes:&nbsp\;<br />\n&bull\; Whiskey production tour.<br />\n&bull\; Sample four single barrels of Tattersall Rye Whiskey in our intimate barrel room\, with notecards to record your tasting notes and preferences.&nbsp\;<br />\n&bull\; Guidance and tips to help decide how you want to create your blend.&nbsp\;<br />\n&bull\; Opportunity to label and seal your bottle.&nbsp\;<br />\n&bull\; Dessert whiskey shot to celebrate your selection.<br />\n<br />\nCost:&nbsp\;<br />\n$75 per person\, including your own bottle<br />\nPlus\, add on additional guests for $25 to enjoy the experience with you.&nbsp\;<br />\n<br />\nAdditional bottles can be purchased during the experience for $50 each.&nbsp\;&nbsp\;<br />\n<br />\nGreat as gift for the holidays/ birthdays or just a treat for yourself!
LOCATION:Tattersall Distilling 1777 Paulson Rd River Falls\, WI 54022
UID:e.87.22065
SEQUENCE:3
DTSTAMP:20260424T050618Z
URL:https://tourism.rfchamber.com/events/details/blend-your-own-custom-whiskey-class-11-16-2024-22065
END:VEVENT

END:VCALENDAR
