BEGIN:VCALENDAR
VERSION:2.0
PRODID:-//ChamberMaster//Event Calendar 2.0//EN
METHOD:PUBLISH
X-PUBLISHED-TTL:P3D
REFRESH-INTERVAL:P3D
CALSCALE:GREGORIAN
BEGIN:VEVENT
DTSTART:20241129T143000Z
DTEND:20241129T151500Z
X-MICROSOFT-CDO-ALLDAYEVENT:FALSE
SUMMARY:Black Friday Mixed Level Express Hudson
DESCRIPTION:This class will focus on building strength and endurance to enhance your yoga practice. We start with a warm up and sequence of upper-body exercises\, which include free weights (optional)\, push-ups\, planks and other moves to target the biceps\, triceps\, chest\, and back muscles. Next\, you'll use your own body weight for resistance to focus on the thigh and seat muscles. Be ready to mix it up!\n\n\n\n*This class is also offered virtually!
X-ALT-DESC;FMTTYPE=text/html:This class will focus on building strength and endurance to enhance your yoga practice. We start with a warm up and sequence of upper-body exercises\, which include free weights (optional)\, push-ups\, planks and other moves to target the biceps\, triceps\, chest\, and back muscles. Next\, you&#39\;ll use your own body weight for resistance to focus on the thigh and seat muscles. Be ready to mix it up!<br />\n<br />\n*This class is also offered virtually!
LOCATION:1370 Hosford Street\, Hudson WI
UID:e.87.21990
SEQUENCE:3
DTSTAMP:20260424T051246Z
URL:https://tourism.rfchamber.com/events/details/black-friday-mixed-level-express-hudson-21990
END:VEVENT

END:VCALENDAR
