BEGIN:VCALENDAR
VERSION:2.0
PRODID:-//ChamberMaster//Event Calendar 2.0//EN
METHOD:PUBLISH
X-PUBLISHED-TTL:P3D
REFRESH-INTERVAL:P3D
CALSCALE:GREGORIAN
BEGIN:VEVENT
DTSTART:20241110T173000Z
DTEND:20241110T181500Z
X-MICROSOFT-CDO-ALLDAYEVENT:FALSE
SUMMARY:Barre at the Brewery
DESCRIPTION:Barre at the Brewery: an Inspiring Actions class at Swinging Bridge Brewery. Bring a water bottle\, yoga mat\, and a towel because It's Always Hazy in a barre class. \n\nYou've heard of the giant pub pretzel at swinging bridge\, but have you done a pretzel lunge? We will lunge\, push-up\, pulse\, and squat until we are Llama Lime Shandy. We'll get our Blood (Orange) pumping!\n\n \n\nGet ready to laugh and sweat and laugh some more from the first breath together to the Final Final breath at the end of class! No barre experience is needed. Variations will be given for each pose to make it beginner\, intermediate\, or advanced. Price includes a 45 min Barre class and a 16oz tap. This class will be Off the Hinges \;) \n\n \n\nClass will be held at Swinging Bridge Brewing Company 122 S Main Street\, River Falls. It's just a few doors down from our River Falls Studio.
X-ALT-DESC;FMTTYPE=text/html:<p>Barre at the Brewery: an Inspiring Actions class at Swinging Bridge Brewery. Bring a water bottle\, yoga mat\, and a towel because <strong><em>It&#39\;s Always Hazy</em></strong>&nbsp\;in a barre class.&nbsp\;</p>\n\n<div>You&#39\;ve&nbsp\;heard of the giant pub&nbsp\;pretzel at swinging bridge\, but have you done a pretzel lunge? We will lunge\, push-up\, pulse\, and squat until we are<strong><em>&nbsp\;Llama Lime Shandy</em></strong>.&nbsp\;We&#39\;ll get our&nbsp\;<strong><em>Blood (Orange)</em></strong>&nbsp\;pumping!\n\n<div>&nbsp\;</div>\n\n<div>Get ready to laugh and sweat and laugh some more from the first breath together to the&nbsp\;<strong><em>Final Final</em></strong>&nbsp\;breath at the end of class!&nbsp\;No barre experience is needed. Variations will be given for each pose to make it beginner\, intermediate\, or advanced. Price includes a 45 min Barre class and a 16oz tap.&nbsp\;This class will be&nbsp\;<strong><em>Off the Hinges</em></strong>&nbsp\;\;)&nbsp\;</div>\n\n<div>&nbsp\;</div>\n\n<div>Class will be held at Swinging Bridge Brewing Company 122 S Main Street\, River Falls. It&#39\;s just a few doors down from our River Falls Studio.&nbsp\;</div>\n</div>\n
LOCATION:Swinging Bridge Brewing Company 122 S Main Street\, River Falls
UID:e.87.22031
SEQUENCE:3
DTSTAMP:20260424T050626Z
URL:https://tourism.rfchamber.com/events/details/barre-at-the-brewery-11-10-2024-22031
END:VEVENT

END:VCALENDAR
