BEGIN:VCALENDAR
VERSION:2.0
PRODID:-//ChamberMaster//Event Calendar 2.0//EN
METHOD:PUBLISH
X-PUBLISHED-TTL:P3D
REFRESH-INTERVAL:P3D
CALSCALE:GREGORIAN
BEGIN:VEVENT
DTSTART:20241016T233000Z
DTEND:20241017T010000Z
X-MICROSOFT-CDO-ALLDAYEVENT:FALSE
SUMMARY:Bad River Film Screening - Free at Falls Theater
DESCRIPTION:Several UWRF and community organizations are coming together to host a free screening of the Bad River film. This free screening will be on Wednesday\, October 16 at 6:30pm at the Falls Theater. Tickets are not needed\, however\, the theater does have a limited number of seats so this is first come\, first served. The Falls theater is partnering with us on this event so please support them by buying concessions.\n\nBAD RIVER is a documentary film which chronicles the Wisconsin-based Bad River Band and its ongoing fight for sovereignty\, a story which unfolds in a groundbreaking way through a series of shocking revelations\, devastating losses\, and a powerful legacy of defiance and resilience which includes a David vs. Goliath battle to save Lake Superior\, the largest freshwater resource in America. As Eldred Corbine\, a Bad River Tribal Elder declares: "We gotta protect it  die for it\, if we have to."
X-ALT-DESC;FMTTYPE=text/html:<p>Several UWRF and community organizations are coming together to host a free screening of the Bad River film. This free screening will be on <strong>Wednesday\, October 16 at 6:30pm</strong> at the Falls Theater. Tickets are not needed\, however\, the theater does have a limited number of seats so this is first come\, first served. The Falls theater is partnering with us on this event so please support them by buying concessions.</p>\n\n<p>BAD RIVER is a documentary film which chronicles the Wisconsin-based Bad River Band and its ongoing fight for sovereignty\, a story which unfolds in a groundbreaking way through a series of shocking revelations\, devastating losses\, and a powerful legacy of defiance and resilience which includes a David vs. Goliath battle to save Lake Superior\, the largest freshwater resource in America. As Eldred Corbine\, a Bad River Tribal Elder declares: &ldquo\;We gotta protect it&hellip\; die for it\, if we have to.&rdquo\;</p>\n
LOCATION:Falls Theater - Tickets are not needed\, however\, the theater does have a limited number of seats so this is first come\, first served.
UID:e.87.22045
SEQUENCE:3
DTSTAMP:20260424T034728Z
URL:https://tourism.rfchamber.com/events/details/bad-river-film-screening-free-at-falls-theater-22045
END:VEVENT

END:VCALENDAR
