BEGIN:VCALENDAR
VERSION:2.0
PRODID:-//ChamberMaster//Event Calendar 2.0//EN
METHOD:PUBLISH
X-PUBLISHED-TTL:P3D
REFRESH-INTERVAL:P3D
CALSCALE:GREGORIAN
BEGIN:VEVENT
DTSTART:20260311T220000Z
DTEND:20260312T000000Z
X-MICROSOFT-CDO-ALLDAYEVENT:FALSE
SUMMARY:Author to discuss disappearing family farms at UW-River Falls March 11
DESCRIPTION:Author Brian Reisinger will discuss his book\, "Land Rich\, Cash Poor: My Family's Hope and the Untold History of the Disappearing American Farmer\," on Wednesday\, March 11\, at 5 p.m. at the University of Wisconsin-River Falls in the Kinnickinnic River Theater in the University Center\, 501 Wild Rose Ave. The event is free and open to the public.  \n\nReisinger will discuss the forces driving the decline of family farms and their impact on the nation's food supply\, drawing on four generations of his family's Wisconsin dairy farming experience. A Q&A and book signing will follow his presentation. \nReisinger is an award-winning author and rural policy expert who grew up on a family farm in Sauk County\, Wisconsin. His writing has appeared in USA Today\, Yahoo News\, Newsweek\, the Milwaukee Journal Sentinel\, PBS/Wisconsin Public Radio and many other publications. Reisinger's debut book\, "Land Rich\, Cash Poor" received Book of the Year from the nonpartisan Farm Foundation\, was named a C-SPAN Author Series pick and won a Best Book Award for U.S. History and a Readers' Favorite Book Award. He has given a TEDx talk on threats to our food supply and discussed rural issues on C-SPAN's Washington Journal\, CNN\, farm radio and more.  \n\nReisinger worked with his dad from the time he could walk\, before entering the worlds of business journalism and public policy. He then went on to work as a columnist and consultant. He serves as senior writer for midwestern-based Platform Communications and lives with his wife and daughter\, splitting time between America's "farm-to-fork capital" Sacramento\, Calif.\, near his wife's family\, and the family farm in Wisconsin.?
X-ALT-DESC;FMTTYPE=text/html:<p>Author Brian Reisinger will discuss&nbsp\;his book\,<em>&nbsp\;&ldquo\;</em>Land Rich\, Cash Poor: My Family&rsquo\;s Hope and the Untold History of the Disappearing American Farmer\,&rdquo\;&nbsp\;on&nbsp\;Wednesday\, March&nbsp\;11\,&nbsp\;at&nbsp\;5&nbsp\;p.m.&nbsp\;at the University of Wisconsin-River Falls&nbsp\;in the&nbsp\;Kinnickinnic River Theater in the University Center\,&nbsp\;501 Wild Rose Ave. The event is free and open to the public.&nbsp\;&nbsp\;</p>\n\n<p>Reisinger will discuss the forces driving the decline of family farms and their impact on the nation&rsquo\;s food supply\, drawing on four generations of his family&rsquo\;s Wisconsin dairy farming experience. A Q&amp\;A and&nbsp\;book signing will follow his presentation.&nbsp\;</p>\nReisinger is an award-winning author and rural policy expert who grew up on a family farm in Sauk County\, Wisconsin. His writing has appeared in USA Today\, Yahoo News\, Newsweek\, the Milwaukee Journal Sentinel\, PBS/Wisconsin Public&nbsp\;Radio&nbsp\;and many other publications. Reisinger&rsquo\;s debut book\,&nbsp\;&ldquo\;Land Rich\, Cash Poor&rdquo\;&nbsp\;received Book of the Year from the nonpartisan Farm Foundation\, was named a C-SPAN Author Series pick&nbsp\;and won a Best Book Award for U.S. History and a Readers&rsquo\; Favorite Book Award. He has given a TEDx talk on threats to our food supply and discussed rural issues on C-SPAN&rsquo\;s<em>&nbsp\;</em>Washington Journal\, CNN\, farm radio and more.&nbsp\;&nbsp\;\n\n<p>Reisinger worked with his dad from the time he could walk\, before entering the&nbsp\;worlds&nbsp\;of business journalism and public policy. He&nbsp\;then&nbsp\;went&nbsp\;on to work as a columnist and consultant. He serves as senior writer for&nbsp\;midwestern-based Platform Communications and lives with his wife and daughter\, splitting time between&nbsp\;America&rsquo\;s &ldquo\;farm-to-fork capital&rdquo\;&nbsp\;Sacramento\, Calif.\,&nbsp\;near his wife&rsquo\;s family\,&nbsp\;and the family farm in Wisconsin.?&nbsp\;</p>\n
LOCATION:University of Wisconsin-River Falls in the Kinnickinnic River Theater in the University Center\, 501 Wild Rose Ave.
UID:e.87.24240
SEQUENCE:3
DTSTAMP:20260421T201502Z
URL:https://tourism.rfchamber.com/events/details/author-to-discuss-disappearing-family-farms-at-uw-river-falls-march-11-24240
END:VEVENT

END:VCALENDAR
