BEGIN:VCALENDAR
VERSION:2.0
PRODID:-//ChamberMaster//Event Calendar 2.0//EN
METHOD:PUBLISH
X-PUBLISHED-TTL:P3D
REFRESH-INTERVAL:P3D
CALSCALE:GREGORIAN
BEGIN:VEVENT
DTSTART:20260123T223000Z
DTEND:20260123T233000Z
X-MICROSOFT-CDO-ALLDAYEVENT:FALSE
SUMMARY:All About Colors Storytime
DESCRIPTION:Join us for a color themed story time. This FREE activity-filled event put on by Speech Remedies is perfect for families with young children through early elementary. Families are invited to participate in interactive activities and receive a make-and-take craft for additional fun. Mark your calendars for Jan. 23rd from 4:30-5:30 in our WonderWorks Theatre studio (112. N. Main Street\, River Falls)
X-ALT-DESC;FMTTYPE=text/html:Join us for a color themed story time. This FREE activity-filled event put on by Speech Remedies is perfect for families with young children through early elementary. Families are invited to participate in interactive activities and receive a make-and-take craft for additional fun. Mark your calendars for Jan. 23rd from 4:30-5:30 in our WonderWorks Theatre studio (112. N. Main Street\, River Falls)
LOCATION:WonderWorks Theatre 112 N. Main Street\, River Falls
UID:e.87.24168
SEQUENCE:3
DTSTAMP:20260421T153545Z
URL:https://tourism.rfchamber.com/events/details/all-about-colors-storytime-24168
END:VEVENT

END:VCALENDAR
