BEGIN:VCALENDAR
VERSION:2.0
PRODID:-//ChamberMaster//Event Calendar 2.0//EN
METHOD:PUBLISH
X-PUBLISHED-TTL:P3D
REFRESH-INTERVAL:P3D
CALSCALE:GREGORIAN
BEGIN:VEVENT
DTSTART:20230202T230000Z
DTEND:20230203T030000Z
X-MICROSOFT-CDO-ALLDAYEVENT:FALSE
SUMMARY:2023 Annual Awards & Recognition Banquet
DESCRIPTION:Please join us for the largest networking event of the year! At this year's Greatest Hits themed Annual Awards and Recognition Banquet\, we will be recognizing individuals and businesses in our community for their above and beyond efforts. This event will be full of fun\, food\, and fabulous networking opportunities. The registration deadline is Friday\, January 20th. \n\n\n\nSponsorship Opportunities: 2023 Annual Dinner Sponsorship\n\n\n\nCitizen of the Year: Terry McAleavey\n\n\n\nTop Three Nominees\n\nNon-Profit of the Year\n\nAmerican Legion Post 121\n\nHope for Creation\n\nSt. Croix Valley SART\n\n\n\nSmall Business of the Year\n\nFox Den Books\n\nSt. Croix Lanes\n\nThe Garage Bikes + Brews\n\n\n\nLarge Business of the Year\n\nLeitch Insurance Agency\n\nTattersall Distillery & Event Center\n\nWESTconsin Credit Union
X-ALT-DESC;FMTTYPE=text/html:<span background-color:="" font-size:="" style="color: rgb(0\, 0\, 0)\; font-size: 16px\;" trebuchet="">Please join us for the largest networking event of the year! At&nbsp\;this year&#39\;s Greatest Hits themed Annual Awards and Recognition Banquet\,&nbsp\;we will be recognizing individuals and businesses in our community for their above and beyond efforts. This event will be full of fun\, food\, and fabulous networking opportunities.&nbsp\;</span><strong style="color: rgb(0\, 0\, 0)\; font-size: 16px\;"><em>The registration deadline is Friday\, January 20th.&nbsp\;<br />\n<br />\nS</em>ponsorship Opportunities:&nbsp\;<a href="https://chambermaster.blob.core.windows.net/userfiles/UserFiles/chambers/87/File/SponsorshipOpportunities.pdf">2023 Annual Dinner Sponsorship</a><br />\n<br />\nCitizen of the Year: Terry McAleavey<br />\n<br />\nTop Three Nominees</strong><br />\n<u>Non-Profit of the Year</u><br />\nAmerican Legion Post 121<br />\nHope for Creation<br />\nSt. Croix Valley SART<br />\n<br />\n<u>Small Business of the Year</u><br />\nFox Den Books<br />\nSt. Croix Lanes<br />\nThe Garage Bikes + Brews<br />\n<br />\n<u>Large Business of the Year</u><br />\nLeitch Insurance Agency<br />\nTattersall Distillery &amp\; Event Center<br />\nWESTconsin Credit Union
LOCATION:Kilkarney Hills Golf Course 163 Radio Road River Falls\, WI
UID:e.87.18739
SEQUENCE:3
DTSTAMP:20260421T052147Z
URL:https://tourism.rfchamber.com/events/details/2023-annual-awards-recognition-banquet-18739
END:VEVENT

END:VCALENDAR
